BEGIN:VCALENDAR
VERSION:2.0
PRODID:icalendar-ruby
CALSCALE:GREGORIAN
METHOD:PUBLISH
BEGIN:VEVENT
DTSTAMP:20260419T145615Z
UID:7-1750097@greaternashvillechurch.org
DTSTART:20260920T150000Z
DTEND:20260920T160000Z
CLASS:PUBLIC
CREATED:20260419T070011
DESCRIPTION:Sunday Worship
LAST-MODIFIED:20260419T070011
LOCATION:Greater Nashville Church
SUMMARY:Sunday Worship
URL;VALUE=URI:https://www.greaternashvillechurch.org/events/sunday-worship/
 2026-09-20
ATTACH;FILENAME=55207924721_3516b9db1d_k.jpg;FMTTYPE=image/jpeg:https://dq5
 pwpg1q8ru0.cloudfront.net/2026/04/17/19/40/52/602236f7-3077-434b-a777-145e
 2354bb11/55207924721_3516b9db1d_k.jpg
END:VEVENT
END:VCALENDAR
