BEGIN:VCALENDAR
VERSION:2.0
PRODID:icalendar-ruby
CALSCALE:GREGORIAN
METHOD:PUBLISH
BEGIN:VEVENT
DTSTAMP:20260419T223056Z
UID:7-1752362@greaternashvillechurch.org
DTSTART:20261025T150000Z
DTEND:20261025T160000Z
CLASS:PUBLIC
CREATED:20260419T142450
DESCRIPTION:Sunday Worship
LAST-MODIFIED:20260419T142450
LOCATION:Greater Nashville Church
SUMMARY:Sunday Worship
URL;VALUE=URI:https://www.greaternashvillechurch.org/events/sunday-worship/
 2026-10-25
ATTACH;FILENAME=55207924721_3516b9db1d_k.jpg;FMTTYPE=image/jpeg:https://dq5
 pwpg1q8ru0.cloudfront.net/2026/04/17/19/40/52/602236f7-3077-434b-a777-145e
 2354bb11/55207924721_3516b9db1d_k.jpg
END:VEVENT
END:VCALENDAR
