BEGIN:VCALENDAR
VERSION:2.0
PRODID:icalendar-ruby
CALSCALE:GREGORIAN
METHOD:PUBLISH
BEGIN:VEVENT
DTSTAMP:20260423T215328Z
UID:20-1781539@greaternashvillechurch.org
DTSTART:20260730T000000Z
DTEND:20260730T010000Z
CLASS:PUBLIC
CREATED:20260423T151933
DESCRIPTION:Join our Youth and Family midweek! If you have any questions pl
 ease reach out to youthandfamily@greaternashvillechurch.org!
LAST-MODIFIED:20260423T151933
LOCATION:Greater Nashville Church\, 3646 Murfreesboro Pike Antioch\, TN 370
 13
SUMMARY:Youth & Family Midweek
URL;VALUE=URI:https://www.greaternashvillechurch.org/events/youth-family-mi
 dweek/2026-07-29
ATTACH;FILENAME=4962BE9E-5D49-446D-BDDB-017A25A735CF.jpg;FMTTYPE=image/jpeg
 :https://dq5pwpg1q8ru0.cloudfront.net/2023/03/23/19/54/46/3819a4b8-52e7-4c
 f8-94e8-097249d5e70b/4962BE9E-5D49-446D-BDDB-017A25A735CF.jpg
END:VEVENT
END:VCALENDAR
